BEGIN:VCALENDAR
VERSION:2.0
PRODID:-//eventon.com NONSGML v1.0//EN
CALSCALE:GREGORIAN
METHOD:PUBLISH
BEGIN:VEVENT
UID:69e731998e022
DTSTAMP:20260421T081313Z
DTSTART:20240914T143000Z
DTEND:20240915T200000Z
LOCATION:Lio Piccolo
SUMMARY:JUJUBE FESTIVAL
DESCRIPTION:It is the traditional festival par excellence of Lio Piccolo an
 d contains the history and culture of the village of the Northern Lagoon in
  which you can still find crops and jujube plants. The Saturday program sta
 rts at 16:30 with the presentation of the book &#8222;Lio Piccolo. Thousand
  years of[..]\nhttps://www.junior-family.it/events/jujube-festival-2/
URL:https://www.junior-family.it/events/jujube-festival-2/
END:VEVENT
END:VCALENDAR