BEGIN:VCALENDAR
VERSION:2.0
PRODID:-//eventon.com NONSGML v1.0//EN
CALSCALE:GREGORIAN
METHOD:PUBLISH
BEGIN:VEVENT
UID:69e733eec6fb3
DTSTAMP:20260421T082310Z
DTSTART:20240617T060000Z
DTEND:20240617T070000Z
LOCATION:Beach of Cavallino - Treporti
SUMMARY:YOGA
DESCRIPTION:This year Gianni is waiting for you at the beach to practice yo
 ga together early in the morning! Meetings are free of charge and take plac
 e every Monday\,  Wednesday and Friday from 8.00 to 9.00 a.m. Just bring a 
 towel or mat\,  booking is not necessary.\nhttps://www.junior-family.it/eve
 nts/yoga-4/
URL:https://www.junior-family.it/events/yoga-4/
END:VEVENT
END:VCALENDAR